BEGIN:VCALENDAR
VERSION:2.0
METHOD:PUBLISH
X-WR-CALNAME:Brick.ie |  October 14 2024- November 13 2024
PRODID:-//strange bird labs//Drupal iCal API//EN
BEGIN:VEVENT
DTSTAMP;VALUE=DATE-TIME:20260423T085041Z
DTSTART;VALUE=DATE-TIME:20241019T103000Z
DTEND;VALUE=DATE-TIME:20241019T130000Z
UID:https://www.brick.ie/event/october-monthly-meeting
URL;VALUE=URI:https://www.brick.ie/event/october-monthly-meeting
SUMMARY:October Monthly Meeting
DESCRIPTION: <p>The September monthly meeting is scheduled for Saturday the 19th. From 11\:30 to about 2-ish we'll be in Neary's\, around the corner from the LEGO Store on Grafton Street that some of us will likely visit at some point.</p> 
END:VEVENT
BEGIN:VEVENT
DTSTAMP;VALUE=DATE-TIME:20260423T085041Z
DTSTART;VALUE=DATE-TIME:20241026T090000Z
DTEND;VALUE=DATE-TIME:20241028T160000Z
UID:https://www.brick.ie/event/brickie-model-railway-society-ireland-clontarf-26-28-october-2024-new-venue
URL;VALUE=URI:https://www.brick.ie/event/brickie-model-railway-society-ireland-clontarf-26-28-october-2024-new-venue
SUMMARY:brick.ie@ Model Railway Society of Ireland - Clontarf - 26-28 October 2024 (new venue)
DESCRIPTION: <p>A large collection of model railway displays with a brick.ie team attending with unique LEGO models.</p> 
END:VEVENT
END:VCALENDAR
