BEGIN:VCALENDAR
VERSION:2.0
METHOD:PUBLISH
X-WR-CALNAME:Brick.ie |  January 22 2025- February 21 2025
PRODID:-//strange bird labs//Drupal iCal API//EN
BEGIN:VEVENT
DTSTAMP;VALUE=DATE-TIME:20260423T084633Z
DTSTART;VALUE=DATE-TIME:20250215T103100Z
DTEND;VALUE=DATE-TIME:20250215T125800Z
UID:https://www.brick.ie/event/february-monthly-meeting-0
URL;VALUE=URI:https://www.brick.ie/event/february-monthly-meeting-0
SUMMARY:February Monthly Meeting
DESCRIPTION: <p>The February monthly meeting is scheduled for Saturday the 15th. From 11\:30 to about 2-ish we'll be in Neary's\, around the corner from the LEGO Store on Grafton Street that some of us will likely visit at some point.</p> 
END:VEVENT
END:VCALENDAR
