BEGIN:VCALENDAR
VERSION:2.0
METHOD:PUBLISH
X-WR-CALNAME:Brick.ie |  March 15 2025- April 14 2025
PRODID:-//strange bird labs//Drupal iCal API//EN
BEGIN:VEVENT
DTSTAMP;VALUE=DATE-TIME:20260423T023438Z
DTSTART;VALUE=DATE-TIME:20250315T103000Z
DTEND;VALUE=DATE-TIME:20250315T130000Z
UID:https://www.brick.ie/event/march-monthly-meeting-2
URL;VALUE=URI:https://www.brick.ie/event/march-monthly-meeting-2
SUMMARY:March Monthly Meeting
DESCRIPTION: <p>The March Monthly Meeting is scheduled for Saturday the 15th. From 11\:30 to about 2-ish we'll be in Neary's\, around the corner from the LEGO Store on Grafton Street that some of us will likely visit at some point.</p> 
END:VEVENT
END:VCALENDAR
