BEGIN:VCALENDAR
VERSION:2.0
METHOD:PUBLISH
X-WR-CALNAME:Brick.ie |  May 17 2025- June 16 2025
PRODID:-//strange bird labs//Drupal iCal API//EN
BEGIN:VEVENT
DTSTAMP;VALUE=DATE-TIME:20260423T023459Z
DTSTART;VALUE=DATE-TIME:20250517T103000Z
DTEND;VALUE=DATE-TIME:20250517T130000Z
UID:https://www.brick.ie/event/may-monthly-meet
URL;VALUE=URI:https://www.brick.ie/event/may-monthly-meet
SUMMARY:May Monthly meet-up
DESCRIPTION: <p>Our May monthly meet-up takes place in Nearys Pub in Chatham St (opposite the LEGO store in Grafton St.) this coming Saturday 17th May. We'll be there from about 11.30 after some shopping. All welcome.</p> 
END:VEVENT
BEGIN:VEVENT
DTSTAMP;VALUE=DATE-TIME:20260423T023459Z
DTSTART;VALUE=DATE-TIME:20250614T090000Z
DTEND;VALUE=DATE-TIME:20250615T170000Z
UID:https://www.brick.ie/event/cork-summer-show
URL;VALUE=URI:https://www.brick.ie/event/cork-summer-show
SUMMARY:Cork Summer Show
DESCRIPTION: <p>A small team from brick.ie will once again attend the Cork Summer Show on 14 and 15 June with LEGO MOCs and a mini-mosaic build challenge. We look forward to meeting members at this very popular Munster event.</p> 
END:VEVENT
END:VCALENDAR
