BEGIN:VCALENDAR
VERSION:2.0
METHOD:PUBLISH
X-WR-CALNAME:Brick.ie |  July 14 2025- July 21 2025
PRODID:-//strange bird labs//Drupal iCal API//EN
BEGIN:VEVENT
DTSTAMP;VALUE=DATE-TIME:20260423T054254Z
DTSTART;VALUE=DATE-TIME:20250719T090000Z
DTEND;VALUE=DATE-TIME:20250720T160000Z
UID:https://www.brick.ie/event/brick-f%C3%A9ile-2025
URL;VALUE=URI:https://www.brick.ie/event/brick-f%C3%A9ile-2025
SUMMARY:Brick Féile 2025
DESCRIPTION: <p>Brick Féile returns on 19 and 20 July 2025 to CityNorth Hotel. Once again it will feature Ireland's best LEGO builders from brick.ie\, international exhibitors\, the Fairy Bricks mosaic challenge\, a GBC and more.</p> 
END:VEVENT
END:VCALENDAR
