BEGIN:VCALENDAR
VERSION:2.0
METHOD:PUBLISH
X-WR-CALNAME:Brick.ie |  October 12 2025- November 11 2025
PRODID:-//strange bird labs//Drupal iCal API//EN
BEGIN:VEVENT
DTSTAMP;VALUE=DATE-TIME:20260423T054252Z
DTSTART;VALUE=DATE-TIME:20251011T090000Z
DTEND;VALUE=DATE-TIME:20251012T160000Z
UID:https://www.brick.ie/event/dublin-brick-con-2025
URL;VALUE=URI:https://www.brick.ie/event/dublin-brick-con-2025
SUMMARY:Dublin Brick Con 2025
DESCRIPTION: <p>Dublin Brick Con returns to the National Basketball Arena in Tallaght this coming October and many of the brick.ie team will be there with custom models and more. </p> 
END:VEVENT
BEGIN:VEVENT
DTSTAMP;VALUE=DATE-TIME:20260423T054252Z
DTSTART;VALUE=DATE-TIME:20251025T100000Z
DTEND;VALUE=DATE-TIME:20251027T150000Z
UID:https://www.brick.ie/event/brickie-south-dublin-model-railway-show-2025
URL;VALUE=URI:https://www.brick.ie/event/brickie-south-dublin-model-railway-show-2025
SUMMARY:brick.ie @ South Dublin Model Railway Show 2025
DESCRIPTION: <p>A team from brick.ie will be at the South Dublin Model Railway Show in Blackrock College over the October bank holiday weekend with some fantastic custom LEGO creations. Hope to see you there.</p> 
END:VEVENT
END:VCALENDAR
